BEGIN:VCALENDAR
VERSION:2.0
CALSCALE:GREGORIAN
PRODID:-//Diputació de Barcelona//DibaCMS//EN
BEGIN:VEVENT
UID:5857
DTSTAMP:20260423T024449
DTSTART:20110511T080000
DTEND:20110511T000000
SUMMARY:Caminades de l'Esplai: Vinya del Llobet, Pascal i Torre Roja
LOCATION:
METHOD:PUBLISH
X-WR-CALNAME:caldesm@caldesdemontbui.cat
X-WR-TIMEZONE:Europe/Madrid
DESCRIPTION:
URI:https://www.caldesdemontbui.cat/actualitat/agenda/caminades-de-lesplai-vinya-del-llobet-pascal-i-torre-roja.html
CLASS:PUBLIC
END:VEVENT
END:VCALENDAR
