BEGIN:VCALENDAR
VERSION:2.0
CALSCALE:GREGORIAN
PRODID:-//Diputació de Barcelona//DibaCMS//EN
BEGIN:VEVENT
UID:5855
DTSTAMP:20260423T042405
DTSTART:20110508T180000
DTEND:20110508T000000
SUMMARY:XIII Trobada Sardanista de Caldes de Montbui
LOCATION:
METHOD:PUBLISH
X-WR-CALNAME:caldesm@caldesdemontbui.cat
X-WR-TIMEZONE:Europe/Madrid
DESCRIPTION:
URI:https://www.caldesdemontbui.cat/actualitat/agenda/xiii-trobada-sardanista-de-caldes-de-montbui.html
CLASS:PUBLIC
END:VEVENT
END:VCALENDAR
