BEGIN:VCALENDAR
VERSION:2.0
CALSCALE:GREGORIAN
PRODID:-//Diputació de Barcelona//DibaCMS//EN
BEGIN:VEVENT
UID:5851
DTSTAMP:20260423T035157
DTSTART:20110505T200000
DTEND:20110505T000000
SUMMARY:Xerrada: Èxit escolar i educatiu. Són importants les notes?
LOCATION:
METHOD:PUBLISH
X-WR-CALNAME:caldesm@caldesdemontbui.cat
X-WR-TIMEZONE:Europe/Madrid
DESCRIPTION:
URI:https://www.caldesdemontbui.cat/actualitat/agenda/xerrada-exit-escolar-i-educatiu-son-importants-les-notes.html
CLASS:PUBLIC
END:VEVENT
END:VCALENDAR
