BEGIN:VCALENDAR
VERSION:2.0
CALSCALE:GREGORIAN
PRODID:-//Diputació de Barcelona//DibaCMS//EN
BEGIN:VEVENT
UID:5847
DTSTAMP:20260423T021719
DTSTART:20110504T080000
DTEND:20110504T000000
SUMMARY:Caminades de l'Esplai: Brugueres, Torre Marimon i visita al museu El Racó de l'avi
LOCATION:
METHOD:PUBLISH
X-WR-CALNAME:caldesm@caldesdemontbui.cat
X-WR-TIMEZONE:Europe/Madrid
DESCRIPTION:
URI:https://www.caldesdemontbui.cat/actualitat/agenda/caminades-de-lesplai-brugueres-torre-marimon-i-visita-al-museu-el-raco-de-lavi.html
CLASS:PUBLIC
END:VEVENT
END:VCALENDAR
