BEGIN:VCALENDAR
VERSION:2.0
CALSCALE:GREGORIAN
PRODID:-//Diputació de Barcelona//DibaCMS//EN
BEGIN:VEVENT
UID:5846
DTSTAMP:20260423T021848
DTSTART:20110503T193000
DTEND:20110503T000000
SUMMARY:Curs de fotografia: Càmera digital II
LOCATION:
METHOD:PUBLISH
X-WR-CALNAME:caldesm@caldesdemontbui.cat
X-WR-TIMEZONE:Europe/Madrid
DESCRIPTION:
URI:https://www.caldesdemontbui.cat/actualitat/agenda/curs-de-fotografia-camera-digital-ii.html
CLASS:PUBLIC
END:VEVENT
END:VCALENDAR
