BEGIN:VCALENDAR
VERSION:2.0
CALSCALE:GREGORIAN
PRODID:-//Diputació de Barcelona//DibaCMS//EN
BEGIN:VEVENT
UID:5845
DTSTAMP:20260423T180738
DTSTART:20110503T180000
DTEND:20110503T000000
SUMMARY:Taller de dibuix de còmic i il·lustració
LOCATION:
METHOD:PUBLISH
X-WR-CALNAME:caldesm@caldesdemontbui.cat
X-WR-TIMEZONE:Europe/Madrid
DESCRIPTION:
URI:https://www.caldesdemontbui.cat/actualitat/agenda/taller-de-dibuix-de-comic-i-illustracio.html
CLASS:PUBLIC
END:VEVENT
END:VCALENDAR
