BEGIN:VCALENDAR
VERSION:2.0
CALSCALE:GREGORIAN
PRODID:-//Diputació de Barcelona//DibaCMS//EN
BEGIN:VEVENT
UID:5841
DTSTAMP:20260423T123806
DTSTART:20110501T000000
DTEND:20110501T000000
SUMMARY:Darrera etapa del Camí de Ronda. 29a Etapa del GR-92, entre Amposta i Pont de l'Olivar
LOCATION:
METHOD:PUBLISH
X-WR-CALNAME:caldesm@caldesdemontbui.cat
X-WR-TIMEZONE:Europe/Madrid
DESCRIPTION:
URI:https://www.caldesdemontbui.cat/actualitat/agenda/darrera-etapa-del-cami-de-ronda-29a-etapa-del-gr-92-entre-amposta-i-pont-de-lolivar.html
CLASS:PUBLIC
END:VEVENT
END:VCALENDAR
