BEGIN:VCALENDAR
VERSION:2.0
CALSCALE:GREGORIAN
PRODID:-//Diputació de Barcelona//DibaCMS//EN
BEGIN:VEVENT
UID:5840
DTSTAMP:20260423T003151
DTSTART:20110430T000000
DTEND:20110430T000000
SUMMARY:Diada de la Coral del Centre
LOCATION:
METHOD:PUBLISH
X-WR-CALNAME:caldesm@caldesdemontbui.cat
X-WR-TIMEZONE:Europe/Madrid
DESCRIPTION:
URI:https://www.caldesdemontbui.cat/actualitat/agenda/diada-de-la-coral-del-centre.html
CLASS:PUBLIC
END:VEVENT
END:VCALENDAR
