BEGIN:VCALENDAR
VERSION:2.0
CALSCALE:GREGORIAN
PRODID:-//Diputació de Barcelona//DibaCMS//EN
BEGIN:VEVENT
UID:5839
DTSTAMP:20260423T210352
DTSTART:20110429T190000
DTEND:20110429T000000
SUMMARY:Inauguració de l'exposició d'Antonio Ortega
LOCATION:
METHOD:PUBLISH
X-WR-CALNAME:caldesm@caldesdemontbui.cat
X-WR-TIMEZONE:Europe/Madrid
DESCRIPTION:
URI:https://www.caldesdemontbui.cat/actualitat/agenda/inauguracio-de-lexposicio-dantonio-ortega.html
CLASS:PUBLIC
END:VEVENT
END:VCALENDAR
