BEGIN:VCALENDAR
VERSION:2.0
CALSCALE:GREGORIAN
PRODID:-//Diputació de Barcelona//DibaCMS//EN
BEGIN:VEVENT
UID:5836
DTSTAMP:20260423T021648
DTSTART:20110429T160000
DTEND:20110429T000000
SUMMARY:Lectura dels escrits de la mostra literària de la Fundació Santa Susanna
LOCATION:
METHOD:PUBLISH
X-WR-CALNAME:caldesm@caldesdemontbui.cat
X-WR-TIMEZONE:Europe/Madrid
DESCRIPTION:
URI:https://www.caldesdemontbui.cat/actualitat/agenda/lectura-dels-escrits-de-la-mostra-literaria-de-la-fundacio-santa-susanna.html
CLASS:PUBLIC
END:VEVENT
END:VCALENDAR
