BEGIN:VCALENDAR
VERSION:2.0
CALSCALE:GREGORIAN
PRODID:-//Diputació de Barcelona//DibaCMS//EN
BEGIN:VEVENT
UID:5835
DTSTAMP:20260423T144619
DTSTART:20110429T000000
DTEND:20110429T000000
SUMMARY:29è Campionat de Catalunya Juvenil d'Hoquei Patins (fins l'1 de maig)
LOCATION:
METHOD:PUBLISH
X-WR-CALNAME:caldesm@caldesdemontbui.cat
X-WR-TIMEZONE:Europe/Madrid
DESCRIPTION:
URI:https://www.caldesdemontbui.cat/actualitat/agenda/29e-campionat-de-catalunya-juvenil-dhoquei-patins-fins-l1-de-maig.html
CLASS:PUBLIC
END:VEVENT
END:VCALENDAR
