BEGIN:VCALENDAR
VERSION:2.0
CALSCALE:GREGORIAN
PRODID:-//Diputació de Barcelona//DibaCMS//EN
BEGIN:VEVENT
UID:5833
DTSTAMP:20260423T002624
DTSTART:20110428T173000
DTEND:20110428T000000
SUMMARY:Inici del Taller d'inciació a l'escriptura creativa 
LOCATION:
METHOD:PUBLISH
X-WR-CALNAME:caldesm@caldesdemontbui.cat
X-WR-TIMEZONE:Europe/Madrid
DESCRIPTION:
URI:https://www.caldesdemontbui.cat/actualitat/agenda/inici-del-taller-dinciacio-a-lescriptura-creativa-.html
CLASS:PUBLIC
END:VEVENT
END:VCALENDAR
