BEGIN:VCALENDAR
VERSION:2.0
CALSCALE:GREGORIAN
PRODID:-//Diputació de Barcelona//DibaCMS//EN
BEGIN:VEVENT
UID:5831
DTSTAMP:20260423T000920
DTSTART:20110427T160000
DTEND:20110427T000000
SUMMARY:Celebració de Sant Jordi de l'Associació Cultural de la Dona
LOCATION:
METHOD:PUBLISH
X-WR-CALNAME:caldesm@caldesdemontbui.cat
X-WR-TIMEZONE:Europe/Madrid
DESCRIPTION:
URI:https://www.caldesdemontbui.cat/actualitat/agenda/celebracio-de-sant-jordi-de-lassociacio-cultural-de-la-dona.html
CLASS:PUBLIC
END:VEVENT
END:VCALENDAR
