BEGIN:VCALENDAR
VERSION:2.0
CALSCALE:GREGORIAN
PRODID:-//Diputació de Barcelona//DibaCMS//EN
BEGIN:VEVENT
UID:5830
DTSTAMP:20260422T224857
DTSTART:20110427T110000
DTEND:20110427T000000
SUMMARY:Ofrena de romaní a la Parròquia de Santa Maria 
LOCATION:
METHOD:PUBLISH
X-WR-CALNAME:caldesm@caldesdemontbui.cat
X-WR-TIMEZONE:Europe/Madrid
DESCRIPTION:
URI:https://www.caldesdemontbui.cat/actualitat/agenda/ofrena-de-romani-a-la-parroquia-de-santa-maria-.html
CLASS:PUBLIC
END:VEVENT
END:VCALENDAR
