BEGIN:VCALENDAR
VERSION:2.0
CALSCALE:GREGORIAN
PRODID:-//Diputació de Barcelona//DibaCMS//EN
BEGIN:VEVENT
UID:5828
DTSTAMP:20260423T002932
DTSTART:20110426T160000
DTEND:20110426T000000
SUMMARY:Mostra literària de la Fundació Santa Susanna 
LOCATION:
METHOD:PUBLISH
X-WR-CALNAME:caldesm@caldesdemontbui.cat
X-WR-TIMEZONE:Europe/Madrid
DESCRIPTION:
URI:https://www.caldesdemontbui.cat/actualitat/agenda/mostra-literaria-de-la-fundacio-santa-susanna-.html
CLASS:PUBLIC
END:VEVENT
END:VCALENDAR
