BEGIN:VCALENDAR
VERSION:2.0
CALSCALE:GREGORIAN
PRODID:-//Diputació de Barcelona//DibaCMS//EN
BEGIN:VEVENT
UID:5827
DTSTAMP:20260423T061708
DTSTART:20110426T000000
DTEND:20110426T000000
SUMMARY:Sant Jordi 2011: 11è Concurs de punts de llibre de la Biblioteca de Caldes
LOCATION:
METHOD:PUBLISH
X-WR-CALNAME:caldesm@caldesdemontbui.cat
X-WR-TIMEZONE:Europe/Madrid
DESCRIPTION:
URI:https://www.caldesdemontbui.cat/actualitat/agenda/sant-jordi-2011-11e-concurs-de-punts-de-llibre-de-la-biblioteca-de-caldes.html
CLASS:PUBLIC
END:VEVENT
END:VCALENDAR
