BEGIN:VCALENDAR
VERSION:2.0
CALSCALE:GREGORIAN
PRODID:-//Diputació de Barcelona//DibaCMS//EN
BEGIN:VEVENT
UID:5825
DTSTAMP:20260423T021454
DTSTART:20110420T090000
DTEND:20110420T000000
SUMMARY:Caminades de l'Esplai: Negrell 
LOCATION:
METHOD:PUBLISH
X-WR-CALNAME:caldesm@caldesdemontbui.cat
X-WR-TIMEZONE:Europe/Madrid
DESCRIPTION:
URI:https://www.caldesdemontbui.cat/actualitat/agenda/caminades-de-lesplai-negrell-.html
CLASS:PUBLIC
END:VEVENT
END:VCALENDAR
