BEGIN:VCALENDAR
VERSION:2.0
CALSCALE:GREGORIAN
PRODID:-//Diputació de Barcelona//DibaCMS//EN
BEGIN:VEVENT
UID:5822
DTSTAMP:20260423T200226
DTSTART:20110417T000000
DTEND:20110417T000000
SUMMARY:Sortida d'iniciació a la muntanya: matinal al massís de Montserrat
LOCATION:
METHOD:PUBLISH
X-WR-CALNAME:caldesm@caldesdemontbui.cat
X-WR-TIMEZONE:Europe/Madrid
DESCRIPTION:
URI:https://www.caldesdemontbui.cat/actualitat/agenda/sortida-diniciacio-a-la-muntanya-matinal-al-massis-de-montserrat.html
CLASS:PUBLIC
END:VEVENT
END:VCALENDAR
