BEGIN:VCALENDAR
VERSION:2.0
CALSCALE:GREGORIAN
PRODID:-//Diputació de Barcelona//DibaCMS//EN
BEGIN:VEVENT
UID:5821
DTSTAMP:20260423T041623
DTSTART:20110416T190000
DTEND:20110416T000000
SUMMARY:Inauguració de l'exposició del pintor Quirze Llusà: 2003-2011 (del 16 d'abril a l'1 de maig)
LOCATION:
METHOD:PUBLISH
X-WR-CALNAME:caldesm@caldesdemontbui.cat
X-WR-TIMEZONE:Europe/Madrid
DESCRIPTION:
URI:https://www.caldesdemontbui.cat/actualitat/agenda/inauguracio-de-lexposicio-del-pintor-quirze-llusa-2003-2011-del-16-dabril-a-l1-de-maig.html
CLASS:PUBLIC
END:VEVENT
END:VCALENDAR
