BEGIN:VCALENDAR
VERSION:2.0
CALSCALE:GREGORIAN
PRODID:-//Diputació de Barcelona//DibaCMS//EN
BEGIN:VEVENT
UID:5818
DTSTAMP:20260422T201538
DTSTART:20110414T180000
DTEND:20110414T000000
SUMMARY:Cloenda dels Premis atrapallibres i protagonista jove 2010
LOCATION:
METHOD:PUBLISH
X-WR-CALNAME:caldesm@caldesdemontbui.cat
X-WR-TIMEZONE:Europe/Madrid
DESCRIPTION:
URI:https://www.caldesdemontbui.cat/actualitat/agenda/cloenda-dels-premis-atrapallibres-i-protagonista-jove-2010.html
CLASS:PUBLIC
END:VEVENT
END:VCALENDAR
