BEGIN:VCALENDAR
VERSION:2.0
CALSCALE:GREGORIAN
PRODID:-//Diputació de Barcelona//DibaCMS//EN
BEGIN:VEVENT
UID:5792
DTSTAMP:20260422T195842
DTSTART:20110403T180000
DTEND:20110403T000000
SUMMARY:TACA'M. Obra: L'auditor. Companyia: La K-Mama
LOCATION:
METHOD:PUBLISH
X-WR-CALNAME:caldesm@caldesdemontbui.cat
X-WR-TIMEZONE:Europe/Madrid
DESCRIPTION:
URI:https://www.caldesdemontbui.cat/actualitat/agenda/tacam-obra-lauditor-companyia-la-k-mama.html
CLASS:PUBLIC
END:VEVENT
END:VCALENDAR
