BEGIN:VCALENDAR
VERSION:2.0
CALSCALE:GREGORIAN
PRODID:-//Diputació de Barcelona//DibaCMS//EN
BEGIN:VEVENT
UID:5781
DTSTAMP:20260423T021536
DTSTART:20110327T112200
DTEND:20110327T000000
SUMMARY:La Volta Ciclista a Catalunya passa per Caldes de Montbui (C59)
LOCATION:
METHOD:PUBLISH
X-WR-CALNAME:caldesm@caldesdemontbui.cat
X-WR-TIMEZONE:Europe/Madrid
DESCRIPTION:
URI:https://www.caldesdemontbui.cat/actualitat/agenda/la-volta-ciclista-a-catalunya-passa-per-caldes-de-montbui-c59.html
CLASS:PUBLIC
END:VEVENT
END:VCALENDAR
