BEGIN:VCALENDAR
VERSION:2.0
CALSCALE:GREGORIAN
PRODID:-//Diputació de Barcelona//DibaCMS//EN
BEGIN:VEVENT
UID:5779
DTSTAMP:20260422T165948
DTSTART:20110327T080000
DTEND:20110327T000000
SUMMARY:Etapa del Camí de Ronda, entre l'Ametlla de Mar i el Delta de l'Ebre
LOCATION:
METHOD:PUBLISH
X-WR-CALNAME:caldesm@caldesdemontbui.cat
X-WR-TIMEZONE:Europe/Madrid
DESCRIPTION:
URI:https://www.caldesdemontbui.cat/actualitat/agenda/etapa-del-cami-de-ronda-entre-lametlla-de-mar-i-el-delta-de-lebre.html
CLASS:PUBLIC
END:VEVENT
END:VCALENDAR
