BEGIN:VCALENDAR
VERSION:2.0
CALSCALE:GREGORIAN
PRODID:-//Diputació de Barcelona//DibaCMS//EN
BEGIN:VEVENT
UID:5777
DTSTAMP:20260422T214016
DTSTART:20110325T180000
DTEND:20110325T000000
SUMMARY:Hora del conte: Contes - tataris 
LOCATION:
METHOD:PUBLISH
X-WR-CALNAME:caldesm@caldesdemontbui.cat
X-WR-TIMEZONE:Europe/Madrid
DESCRIPTION:
URI:https://www.caldesdemontbui.cat/actualitat/agenda/hora-del-conte-contes---tataris-.html
CLASS:PUBLIC
END:VEVENT
END:VCALENDAR
