BEGIN:VCALENDAR
VERSION:2.0
CALSCALE:GREGORIAN
PRODID:-//Diputació de Barcelona//DibaCMS//EN
BEGIN:VEVENT
UID:5776
DTSTAMP:20260422T201841
DTSTART:20110324T200000
DTEND:20110324T000000
SUMMARY:Jornada de portes obertes: Escola Pia (Batxillerat)
LOCATION:
METHOD:PUBLISH
X-WR-CALNAME:caldesm@caldesdemontbui.cat
X-WR-TIMEZONE:Europe/Madrid
DESCRIPTION:
URI:https://www.caldesdemontbui.cat/actualitat/agenda/jornada-de-portes-obertes-escola-pia-batxillerat.html
CLASS:PUBLIC
END:VEVENT
END:VCALENDAR
