BEGIN:VCALENDAR
VERSION:2.0
CALSCALE:GREGORIAN
PRODID:-//Diputació de Barcelona//DibaCMS//EN
BEGIN:VEVENT
UID:5770
DTSTAMP:20260422T213942
DTSTART:20110321T200000
DTEND:20110321T000000
SUMMARY:Presentació del llibre Mentalidad de crisis. La nueva era
LOCATION:
METHOD:PUBLISH
X-WR-CALNAME:caldesm@caldesdemontbui.cat
X-WR-TIMEZONE:Europe/Madrid
DESCRIPTION:
URI:https://www.caldesdemontbui.cat/actualitat/agenda/presentacio-del-llibre-mentalidad-de-crisis-la-nueva-era.html
CLASS:PUBLIC
END:VEVENT
END:VCALENDAR
