BEGIN:VCALENDAR
VERSION:2.0
CALSCALE:GREGORIAN
PRODID:-//Diputació de Barcelona//DibaCMS//EN
BEGIN:VEVENT
UID:5769
DTSTAMP:20260422T170021
DTSTART:20110320T180000
DTEND:20110320T000000
SUMMARY:TACA'M. Obra: T'estimo, ets perfecte, ja et canviaré. Companyia: Foment Cultural de Súria
LOCATION:
METHOD:PUBLISH
X-WR-CALNAME:caldesm@caldesdemontbui.cat
X-WR-TIMEZONE:Europe/Madrid
DESCRIPTION:
URI:https://www.caldesdemontbui.cat/actualitat/agenda/tacam-obra-testimo-ets-perfecte-ja-et-canviare-companyia-foment-cultural-de-sria.html
CLASS:PUBLIC
END:VEVENT
END:VCALENDAR
