BEGIN:VCALENDAR
VERSION:2.0
CALSCALE:GREGORIAN
PRODID:-//Diputació de Barcelona//DibaCMS//EN
BEGIN:VEVENT
UID:5714
DTSTAMP:20260421T020217
DTSTART:20081213T120000
DTEND:20081213T000000
SUMMARY:Inauguració del nou complex esportiu municipal de les Cremades
LOCATION:
METHOD:PUBLISH
X-WR-CALNAME:caldesm@caldesdemontbui.cat
X-WR-TIMEZONE:Europe/Madrid
DESCRIPTION:
URI:https://www.caldesdemontbui.cat/actualitat/agenda/inauguracio-del-nou-complex-esportiu-municipal-de-les-cremades.html
CLASS:PUBLIC
END:VEVENT
END:VCALENDAR
