BEGIN:VCALENDAR
VERSION:2.0
CALSCALE:GREGORIAN
PRODID:-//Diputació de Barcelona//DibaCMS//EN
BEGIN:VEVENT
UID:5696
DTSTAMP:20260420T133223
DTSTART:20081110T190000
DTEND:20081110T000000
SUMMARY:Presentació del projecte esportiu "Fem equip, fem ciutat"
LOCATION:
METHOD:PUBLISH
X-WR-CALNAME:caldesm@caldesdemontbui.cat
X-WR-TIMEZONE:Europe/Madrid
DESCRIPTION:
URI:https://www.caldesdemontbui.cat/actualitat/agenda/presentacio-del-projecte-esportiu-fem-equip-fem-ciutat.html
CLASS:PUBLIC
END:VEVENT
END:VCALENDAR
