BEGIN:VCALENDAR
VERSION:2.0
CALSCALE:GREGORIAN
PRODID:-//Diputació de Barcelona//DibaCMS//EN
BEGIN:VEVENT
UID:5491
DTSTAMP:20260423T192130
DTSTART:20071219T183000
DTEND:20071219T000000
SUMMARY:Concert de Nadal
LOCATION:
METHOD:PUBLISH
X-WR-CALNAME:caldesm@caldesdemontbui.cat
X-WR-TIMEZONE:Europe/Madrid
DESCRIPTION:
URI:https://www.caldesdemontbui.cat/actualitat/agenda/concert-de-nadal.html
CLASS:PUBLIC
END:VEVENT
END:VCALENDAR
