BEGIN:VCALENDAR
VERSION:2.0
CALSCALE:GREGORIAN
PRODID:-//Diputació de Barcelona//DibaCMS//EN
BEGIN:VEVENT
UID:5350
DTSTAMP:20260423T010131
DTSTART:20110310T180000
DTEND:20110310T000000
SUMMARY:Trobada del Club dels Enganxats. Categoria 15-16 anys
LOCATION:
METHOD:PUBLISH
X-WR-CALNAME:caldesm@caldesdemontbui.cat
X-WR-TIMEZONE:Europe/Madrid
DESCRIPTION:
URI:https://www.caldesdemontbui.cat/actualitat/agenda/trobada-del-club-dels-enganxats-categoria-15-16-anys.html
CLASS:PUBLIC
END:VEVENT
END:VCALENDAR
