BEGIN:VCALENDAR
VERSION:2.0
CALSCALE:GREGORIAN
PRODID:-//Diputació de Barcelona//DibaCMS//EN
BEGIN:VEVENT
UID:5349
DTSTAMP:20260422T183400
DTSTART:20110309T160000
DTEND:20110309T000000
SUMMARY:Dia de la dona: Cinefòrum sobre la pel·lícula "Las chicas de la lenceria"
LOCATION:
METHOD:PUBLISH
X-WR-CALNAME:caldesm@caldesdemontbui.cat
X-WR-TIMEZONE:Europe/Madrid
DESCRIPTION:
URI:https://www.caldesdemontbui.cat/actualitat/agenda/dia-de-la-dona-cineforum-sobre-la-pellicula-las-chicas-de-la-lenceria.html
CLASS:PUBLIC
END:VEVENT
END:VCALENDAR
