BEGIN:VCALENDAR
VERSION:2.0
CALSCALE:GREGORIAN
PRODID:-//Diputació de Barcelona//DibaCMS//EN
BEGIN:VEVENT
UID:5318
DTSTAMP:20260422T150634
DTSTART:20110218T180000
DTEND:20110218T000000
SUMMARY:Jocs de taula. Jugo, jugues, juguem!
LOCATION:
METHOD:PUBLISH
X-WR-CALNAME:caldesm@caldesdemontbui.cat
X-WR-TIMEZONE:Europe/Madrid
DESCRIPTION:
URI:https://www.caldesdemontbui.cat/actualitat/agenda/jocs-de-taula-jugo-jugues-juguem.html
CLASS:PUBLIC
END:VEVENT
END:VCALENDAR
