BEGIN:VCALENDAR
VERSION:2.0
CALSCALE:GREGORIAN
PRODID:-//Diputació de Barcelona//DibaCMS//EN
BEGIN:VEVENT
UID:5289
DTSTAMP:20260422T150830
DTSTART:20110129T110000
DTEND:20110129T130000
SUMMARY:Jornada de portes obertes: Institut Manolo Hugué
LOCATION:
METHOD:PUBLISH
X-WR-CALNAME:caldesm@caldesdemontbui.cat
X-WR-TIMEZONE:Europe/Madrid
DESCRIPTION:
URI:https://www.caldesdemontbui.cat/actualitat/agenda/jornada-de-portes-obertes-institut-manolo-hugue.html
CLASS:PUBLIC
END:VEVENT
END:VCALENDAR
