BEGIN:VCALENDAR
VERSION:2.0
CALSCALE:GREGORIAN
PRODID:-//Diputació de Barcelona//DibaCMS//EN
BEGIN:VEVENT
UID:5256
DTSTAMP:20260422T152237
DTSTART:20110105T183000
DTEND:20110105T000000
SUMMARY:Cavalcada de SM Els Reis d'Orient
LOCATION:
METHOD:PUBLISH
X-WR-CALNAME:caldesm@caldesdemontbui.cat
X-WR-TIMEZONE:Europe/Madrid
DESCRIPTION:
URI:https://www.caldesdemontbui.cat/actualitat/agenda/cavalcada-de-sm-els-reis-dorient.html
CLASS:PUBLIC
END:VEVENT
END:VCALENDAR
