BEGIN:VCALENDAR
VERSION:2.0
CALSCALE:GREGORIAN
PRODID:-//Diputació de Barcelona//DibaCMS//EN
BEGIN:VEVENT
UID:5188
DTSTAMP:20260421T005138
DTSTART:20101126T210000
DTEND:20101126T000000
SUMMARY:Sopar ball amb música en directe
LOCATION:
METHOD:PUBLISH
X-WR-CALNAME:caldesm@caldesdemontbui.cat
X-WR-TIMEZONE:Europe/Madrid
DESCRIPTION:
URI:https://www.caldesdemontbui.cat/actualitat/agenda/sopar-ball-amb-msica-en-directe.html
CLASS:PUBLIC
END:VEVENT
END:VCALENDAR
