BEGIN:VCALENDAR
VERSION:2.0
CALSCALE:GREGORIAN
PRODID:-//Diputació de Barcelona//DibaCMS//EN
BEGIN:VEVENT
UID:5184
DTSTAMP:20260423T060522
DTSTART:20101126T100000
DTEND:20101126T000000
SUMMARY:Reunió de la Coordinadora de la Gent Gran
LOCATION:
METHOD:PUBLISH
X-WR-CALNAME:caldesm@caldesdemontbui.cat
X-WR-TIMEZONE:Europe/Madrid
DESCRIPTION:
URI:https://www.caldesdemontbui.cat/actualitat/agenda/reunio-de-la-coordinadora-de-la-gent-gran.html
CLASS:PUBLIC
END:VEVENT
END:VCALENDAR
