BEGIN:VCALENDAR
VERSION:2.0
CALSCALE:GREGORIAN
PRODID:-//Diputació de Barcelona//DibaCMS//EN
BEGIN:VEVENT
UID:5138
DTSTAMP:20260420T230731
DTSTART:20101006T090000
DTEND:20101006T000000
SUMMARY:Sortida al Mas d'en Sisa
LOCATION:
METHOD:PUBLISH
X-WR-CALNAME:caldesm@caldesdemontbui.cat
X-WR-TIMEZONE:Europe/Madrid
DESCRIPTION:
URI:https://www.caldesdemontbui.cat/actualitat/agenda/sortida-al-mas-den-sisa.html
CLASS:PUBLIC
END:VEVENT
END:VCALENDAR
