BEGIN:VCALENDAR
VERSION:2.0
CALSCALE:GREGORIAN
PRODID:-//Diputació de Barcelona//DibaCMS//EN
BEGIN:VEVENT
UID:5099
DTSTAMP:20260422T153229
DTSTART:20100718T000000
DTEND:20100718T000000
SUMMARY:Travessa des de Vallter cap a les Gorges de Carançà
LOCATION:
METHOD:PUBLISH
X-WR-CALNAME:caldesm@caldesdemontbui.cat
X-WR-TIMEZONE:Europe/Madrid
DESCRIPTION:
URI:https://www.caldesdemontbui.cat/actualitat/agenda/travessa-des-de-vallter-cap-a-les-gorges-de-caranca.html
CLASS:PUBLIC
END:VEVENT
END:VCALENDAR
