BEGIN:VCALENDAR
VERSION:2.0
CALSCALE:GREGORIAN
PRODID:-//Diputació de Barcelona//DibaCMS//EN
BEGIN:VEVENT
UID:5091
DTSTAMP:20260422T115949
DTSTART:20100710T180000
DTEND:20100710T000000
SUMMARY:Caldeja't. Escaldàrium. Festa del foc i l'aigua
LOCATION:
METHOD:PUBLISH
X-WR-CALNAME:caldesm@caldesdemontbui.cat
X-WR-TIMEZONE:Europe/Madrid
DESCRIPTION:
URI:https://www.caldesdemontbui.cat/actualitat/agenda/caldejat-escaldarium-festa-del-foc-i-laigua.html
CLASS:PUBLIC
END:VEVENT
END:VCALENDAR
