BEGIN:VCALENDAR
VERSION:2.0
CALSCALE:GREGORIAN
PRODID:-//Diputació de Barcelona//DibaCMS//EN
BEGIN:VEVENT
UID:5088
DTSTAMP:20260422T113259
DTSTART:20100709T213000
DTEND:20100709T000000
SUMMARY:Caldeja't. Concert de Flaustaff, grup de flautes
LOCATION:
METHOD:PUBLISH
X-WR-CALNAME:caldesm@caldesdemontbui.cat
X-WR-TIMEZONE:Europe/Madrid
DESCRIPTION:
URI:https://www.caldesdemontbui.cat/actualitat/agenda/caldejat-concert-de-flaustaff-grup-de-flautes.html
CLASS:PUBLIC
END:VEVENT
END:VCALENDAR
