BEGIN:VCALENDAR
VERSION:2.0
CALSCALE:GREGORIAN
PRODID:-//Diputació de Barcelona//DibaCMS//EN
BEGIN:VEVENT
UID:5087
DTSTAMP:20260422T112434
DTSTART:20100709T213000
DTEND:20100709T000000
SUMMARY:Sopar-Concert de les Jornades Gastronòmiques de les Cieres: Violeta
LOCATION:
METHOD:PUBLISH
X-WR-CALNAME:caldesm@caldesdemontbui.cat
X-WR-TIMEZONE:Europe/Madrid
DESCRIPTION:
URI:https://www.caldesdemontbui.cat/actualitat/agenda/sopar-concert-de-les-jornades-gastronomiques-de-les-cieres-violeta.html
CLASS:PUBLIC
END:VEVENT
END:VCALENDAR
