BEGIN:VCALENDAR
VERSION:2.0
CALSCALE:GREGORIAN
PRODID:-//Diputació de Barcelona//DibaCMS//EN
BEGIN:VEVENT
UID:5085
DTSTAMP:20260423T061741
DTSTART:20100708T223000
DTEND:20100708T000000
SUMMARY:Sopar-Concert de les Jornades Gastronòmiques de les Cieres: Robert de Nola
LOCATION:
METHOD:PUBLISH
X-WR-CALNAME:caldesm@caldesdemontbui.cat
X-WR-TIMEZONE:Europe/Madrid
DESCRIPTION:
URI:https://www.caldesdemontbui.cat/actualitat/agenda/sopar-concert-de-les-jornades-gastronomiques-de-les-cieres-robert-de-nola.html
CLASS:PUBLIC
END:VEVENT
END:VCALENDAR
