BEGIN:VCALENDAR
VERSION:2.0
CALSCALE:GREGORIAN
PRODID:-//Diputació de Barcelona//DibaCMS//EN
BEGIN:VEVENT
UID:5079
DTSTAMP:20260422T052043
DTSTART:20100703T190000
DTEND:20100703T000000
SUMMARY:Caldeja't. Festa Djembé. Música i danses de Mali
LOCATION:
METHOD:PUBLISH
X-WR-CALNAME:caldesm@caldesdemontbui.cat
X-WR-TIMEZONE:Europe/Madrid
DESCRIPTION:
URI:https://www.caldesdemontbui.cat/actualitat/agenda/caldejat-festa-djembe-msica-i-danses-de-mali.html
CLASS:PUBLIC
END:VEVENT
END:VCALENDAR
