BEGIN:VCALENDAR
VERSION:2.0
CALSCALE:GREGORIAN
PRODID:-//Diputació de Barcelona//DibaCMS//EN
BEGIN:VEVENT
UID:5078
DTSTAMP:20260422T083834
DTSTART:20100703T000000
DTEND:20100703T000000
SUMMARY:Dia Internacional Lliure de Bosses de Plàstic 
LOCATION:
METHOD:PUBLISH
X-WR-CALNAME:caldesm@caldesdemontbui.cat
X-WR-TIMEZONE:Europe/Madrid
DESCRIPTION:
URI:https://www.caldesdemontbui.cat/actualitat/agenda/dia-internacional-lliure-de-bosses-de-plastic-.html
CLASS:PUBLIC
END:VEVENT
END:VCALENDAR
