BEGIN:VCALENDAR
VERSION:2.0
CALSCALE:GREGORIAN
PRODID:-//Diputació de Barcelona//DibaCMS//EN
BEGIN:VEVENT
UID:5050
DTSTAMP:20260422T095837
DTSTART:20100619T000000
DTEND:20100619T000000
SUMMARY:Travessa des de Nuria fins a la Vall d'Eina
LOCATION:
METHOD:PUBLISH
X-WR-CALNAME:caldesm@caldesdemontbui.cat
X-WR-TIMEZONE:Europe/Madrid
DESCRIPTION:
URI:https://www.caldesdemontbui.cat/actualitat/agenda/travessa-des-de-nuria-fins-a-la-vall-deina.html
CLASS:PUBLIC
END:VEVENT
END:VCALENDAR
