BEGIN:VCALENDAR
VERSION:2.0
CALSCALE:GREGORIAN
PRODID:-//Diputació de Barcelona//DibaCMS//EN
BEGIN:VEVENT
UID:5048
DTSTAMP:20260422T095625
DTSTART:20100616T200000
DTEND:20100616T000000
SUMMARY:Sessió informativa i recollida de propostes per la disminució del consum energètic
LOCATION:
METHOD:PUBLISH
X-WR-CALNAME:caldesm@caldesdemontbui.cat
X-WR-TIMEZONE:Europe/Madrid
DESCRIPTION:
URI:https://www.caldesdemontbui.cat/actualitat/agenda/sessio-informativa-i-recollida-de-propostes-per-la-disminucio-del-consum-energetic.html
CLASS:PUBLIC
END:VEVENT
END:VCALENDAR
