BEGIN:VCALENDAR
VERSION:2.0
CALSCALE:GREGORIAN
PRODID:-//Diputació de Barcelona//DibaCMS//EN
BEGIN:VEVENT
UID:5047
DTSTAMP:20260422T095457
DTSTART:20100616T163000
DTEND:20100616T000000
SUMMARY:Recorreguts pel poble
LOCATION:
METHOD:PUBLISH
X-WR-CALNAME:caldesm@caldesdemontbui.cat
X-WR-TIMEZONE:Europe/Madrid
DESCRIPTION:
URI:https://www.caldesdemontbui.cat/actualitat/agenda/recorreguts-pel-poble.html
CLASS:PUBLIC
END:VEVENT
END:VCALENDAR
