BEGIN:VCALENDAR
VERSION:2.0
CALSCALE:GREGORIAN
PRODID:-//Diputació de Barcelona//DibaCMS//EN
BEGIN:VEVENT
UID:5046
DTSTAMP:20260422T100154
DTSTART:20100616T160000
DTEND:20100616T000000
SUMMARY:Teatre "El senyor prerramon"
LOCATION:
METHOD:PUBLISH
X-WR-CALNAME:caldesm@caldesdemontbui.cat
X-WR-TIMEZONE:Europe/Madrid
DESCRIPTION:
URI:https://www.caldesdemontbui.cat/actualitat/agenda/teatre-el-senyor-prerramon.html
CLASS:PUBLIC
END:VEVENT
END:VCALENDAR
