BEGIN:VCALENDAR
VERSION:2.0
CALSCALE:GREGORIAN
PRODID:-//Diputació de Barcelona//DibaCMS//EN
BEGIN:VEVENT
UID:5045
DTSTAMP:20260422T100026
DTSTART:20100616T080000
DTEND:20100616T000000
SUMMARY:Sortida a Sant Feliu i al Castell de Montbui
LOCATION:
METHOD:PUBLISH
X-WR-CALNAME:caldesm@caldesdemontbui.cat
X-WR-TIMEZONE:Europe/Madrid
DESCRIPTION:
URI:https://www.caldesdemontbui.cat/actualitat/agenda/sortida-a-sant-feliu-i-al-castell-de-montbui.html
CLASS:PUBLIC
END:VEVENT
END:VCALENDAR
